BEGIN:VCALENDAR
VERSION:2.0
PRODID:-//Agape International Spiritual Center - ECPv6.15.20//NONSGML v1.0//EN
CALSCALE:GREGORIAN
METHOD:PUBLISH
X-WR-CALNAME:Agape International Spiritual Center
X-ORIGINAL-URL:https://agapelive.com
X-WR-CALDESC:Events for Agape International Spiritual Center
REFRESH-INTERVAL;VALUE=DURATION:PT1H
X-Robots-Tag:noindex
X-PUBLISHED-TTL:PT1H
BEGIN:VTIMEZONE
TZID:America/Los_Angeles
BEGIN:DAYLIGHT
TZOFFSETFROM:-0800
TZOFFSETTO:-0700
TZNAME:PDT
DTSTART:20240310T100000
END:DAYLIGHT
BEGIN:STANDARD
TZOFFSETFROM:-0700
TZOFFSETTO:-0800
TZNAME:PST
DTSTART:20241103T090000
END:STANDARD
BEGIN:DAYLIGHT
TZOFFSETFROM:-0800
TZOFFSETTO:-0700
TZNAME:PDT
DTSTART:20250309T100000
END:DAYLIGHT
BEGIN:STANDARD
TZOFFSETFROM:-0700
TZOFFSETTO:-0800
TZNAME:PST
DTSTART:20251102T090000
END:STANDARD
BEGIN:DAYLIGHT
TZOFFSETFROM:-0800
TZOFFSETTO:-0700
TZNAME:PDT
DTSTART:20260308T100000
END:DAYLIGHT
BEGIN:STANDARD
TZOFFSETFROM:-0700
TZOFFSETTO:-0800
TZNAME:PST
DTSTART:20261101T090000
END:STANDARD
END:VTIMEZONE
BEGIN:VEVENT
DTSTART;TZID=America/Los_Angeles:20250326T180000
DTEND;TZID=America/Los_Angeles:20250326T200000
DTSTAMP:20260421T122112
CREATED:20250309T074419Z
LAST-MODIFIED:20250321T231431Z
UID:10010134-1743012000-1743019200@agapelive.com
SUMMARY:The Frequency Factor Masterclass
DESCRIPTION:    \nJoin Rev. Julie Moret for her powerful FREE online masterclass\, “The Frequency Factor Bootcamp: Become the Vibrational Match of Your Desires\,” featuring Michael B. Beckwith and special guests on Wednesday\, March 26th at 6 p.m. PT. Tune in during this one-hour teaching that will ignite\, inspire\, and elevate your relationship with your frequency and energetic imprint. \nThis Masterclass is a teaser to Rev. Julie’s new\, upcoming live five-week course\, “The Frequency Factor: Ignite Your Purpose by Vibrating at the Level of Your Dreams\,” starting Wednesday\, April 9th. \nClick here for more info and to register now!\n \n 
URL:https://agapelive.com/event/the-frequency-factor-masterclass/
LOCATION:Online
CATEGORIES:At A Glance Top,Classes
ATTACH;FMTTYPE=image/jpeg:https://agapelive.com/wp-content/uploads/2025/03/Frequency-Factor-Masterclass-Calendar-800x523-1.jpg
END:VEVENT
END:VCALENDAR