BEGIN:VCALENDAR
VERSION:2.0
PRODID:-//Agape International Spiritual Center - ECPv6.15.20//NONSGML v1.0//EN
CALSCALE:GREGORIAN
METHOD:PUBLISH
X-WR-CALNAME:Agape International Spiritual Center
X-ORIGINAL-URL:https://agapelive.com
X-WR-CALDESC:Events for Agape International Spiritual Center
REFRESH-INTERVAL;VALUE=DURATION:PT1H
X-Robots-Tag:noindex
X-PUBLISHED-TTL:PT1H
BEGIN:VTIMEZONE
TZID:America/Los_Angeles
BEGIN:DAYLIGHT
TZOFFSETFROM:-0800
TZOFFSETTO:-0700
TZNAME:PDT
DTSTART:20250309T100000
END:DAYLIGHT
BEGIN:STANDARD
TZOFFSETFROM:-0700
TZOFFSETTO:-0800
TZNAME:PST
DTSTART:20251102T090000
END:STANDARD
BEGIN:DAYLIGHT
TZOFFSETFROM:-0800
TZOFFSETTO:-0700
TZNAME:PDT
DTSTART:20260308T100000
END:DAYLIGHT
BEGIN:STANDARD
TZOFFSETFROM:-0700
TZOFFSETTO:-0800
TZNAME:PST
DTSTART:20261101T090000
END:STANDARD
BEGIN:DAYLIGHT
TZOFFSETFROM:-0800
TZOFFSETTO:-0700
TZNAME:PDT
DTSTART:20270314T100000
END:DAYLIGHT
BEGIN:STANDARD
TZOFFSETFROM:-0700
TZOFFSETTO:-0800
TZNAME:PST
DTSTART:20271107T090000
END:STANDARD
END:VTIMEZONE
BEGIN:VEVENT
DTSTART;TZID=America/Los_Angeles:20260421T080000
DTEND;TZID=America/Los_Angeles:20260421T083000
DTSTAMP:20260420T202209
CREATED:20240303T020011Z
LAST-MODIFIED:20250309T095611Z
UID:10002257-1776758400-1776760200@agapelive.com
SUMMARY:Agape's Daily Prayer Sessions
DESCRIPTION:  \nJoin your Agape Family each morning at 8am (Pacific Time) via FaceBook Live\, as we establish ourselves in the Truth of our existence through prayer. \nWith so much going on in our world you want to begin your day anchored in Truth and Agape’s ministers and practitioners will support you in living this Reality! \nLink on Facebook: \n      Facebook.com/AgapeInternationalSpiritualCenter/ \nMon. – Sat.  Daily  @. 8am PT \n 
URL:https://agapelive.com/event/agapes-daily-prayer-sessions-2/2026-04-21/
ATTACH;FMTTYPE=image/jpeg:https://agapelive.com/wp-content/uploads/2024/02/Agape-Daily-Prayer-web.jpg
END:VEVENT
BEGIN:VEVENT
DTSTART;TZID=America/Los_Angeles:20260422T080000
DTEND;TZID=America/Los_Angeles:20260422T083000
DTSTAMP:20260420T202209
CREATED:20240303T020011Z
LAST-MODIFIED:20250309T095611Z
UID:10003483-1776844800-1776846600@agapelive.com
SUMMARY:Agape's Daily Prayer Sessions
DESCRIPTION:  \nJoin your Agape Family each morning at 8am (Pacific Time) via FaceBook Live\, as we establish ourselves in the Truth of our existence through prayer. \nWith so much going on in our world you want to begin your day anchored in Truth and Agape’s ministers and practitioners will support you in living this Reality! \nLink on Facebook: \n      Facebook.com/AgapeInternationalSpiritualCenter/ \nMon. – Sat.  Daily  @. 8am PT \n 
URL:https://agapelive.com/event/agapes-daily-prayer-sessions-2/2026-04-22/
ATTACH;FMTTYPE=image/jpeg:https://agapelive.com/wp-content/uploads/2024/02/Agape-Daily-Prayer-web.jpg
END:VEVENT
BEGIN:VEVENT
DTSTART;TZID=America/Los_Angeles:20260423T080000
DTEND;TZID=America/Los_Angeles:20260423T083000
DTSTAMP:20260420T202209
CREATED:20240303T020011Z
LAST-MODIFIED:20250309T095611Z
UID:10002259-1776931200-1776933000@agapelive.com
SUMMARY:Agape's Daily Prayer Sessions
DESCRIPTION:  \nJoin your Agape Family each morning at 8am (Pacific Time) via FaceBook Live\, as we establish ourselves in the Truth of our existence through prayer. \nWith so much going on in our world you want to begin your day anchored in Truth and Agape’s ministers and practitioners will support you in living this Reality! \nLink on Facebook: \n      Facebook.com/AgapeInternationalSpiritualCenter/ \nMon. – Sat.  Daily  @. 8am PT \n 
URL:https://agapelive.com/event/agapes-daily-prayer-sessions-2/2026-04-23/
ATTACH;FMTTYPE=image/jpeg:https://agapelive.com/wp-content/uploads/2024/02/Agape-Daily-Prayer-web.jpg
END:VEVENT
BEGIN:VEVENT
DTSTART;TZID=America/Los_Angeles:20260424T080000
DTEND;TZID=America/Los_Angeles:20260424T083000
DTSTAMP:20260420T202209
CREATED:20240303T020011Z
LAST-MODIFIED:20250309T095611Z
UID:10002260-1777017600-1777019400@agapelive.com
SUMMARY:Agape's Daily Prayer Sessions
DESCRIPTION:  \nJoin your Agape Family each morning at 8am (Pacific Time) via FaceBook Live\, as we establish ourselves in the Truth of our existence through prayer. \nWith so much going on in our world you want to begin your day anchored in Truth and Agape’s ministers and practitioners will support you in living this Reality! \nLink on Facebook: \n      Facebook.com/AgapeInternationalSpiritualCenter/ \nMon. – Sat.  Daily  @. 8am PT \n 
URL:https://agapelive.com/event/agapes-daily-prayer-sessions-2/2026-04-24/
ATTACH;FMTTYPE=image/jpeg:https://agapelive.com/wp-content/uploads/2024/02/Agape-Daily-Prayer-web.jpg
END:VEVENT
BEGIN:VEVENT
DTSTART;TZID=America/Los_Angeles:20260425T080000
DTEND;TZID=America/Los_Angeles:20260425T083000
DTSTAMP:20260420T202209
CREATED:20240303T020011Z
LAST-MODIFIED:20250309T095611Z
UID:10002261-1777104000-1777105800@agapelive.com
SUMMARY:Agape's Daily Prayer Sessions
DESCRIPTION:  \nJoin your Agape Family each morning at 8am (Pacific Time) via FaceBook Live\, as we establish ourselves in the Truth of our existence through prayer. \nWith so much going on in our world you want to begin your day anchored in Truth and Agape’s ministers and practitioners will support you in living this Reality! \nLink on Facebook: \n      Facebook.com/AgapeInternationalSpiritualCenter/ \nMon. – Sat.  Daily  @. 8am PT \n 
URL:https://agapelive.com/event/agapes-daily-prayer-sessions-2/2026-04-25/
ATTACH;FMTTYPE=image/jpeg:https://agapelive.com/wp-content/uploads/2024/02/Agape-Daily-Prayer-web.jpg
END:VEVENT
BEGIN:VEVENT
DTSTART;TZID=America/Los_Angeles:20260427T080000
DTEND;TZID=America/Los_Angeles:20260427T083000
DTSTAMP:20260420T202209
CREATED:20251227T234530Z
LAST-MODIFIED:20251227T234531Z
UID:10003242-1777276800-1777278600@agapelive.com
SUMMARY:Agape's Daily Prayer Sessions
DESCRIPTION:  \nJoin your Agape Family each morning at 8am (Pacific Time) via FaceBook Live\, as we establish ourselves in the Truth of our existence through prayer. \nWith so much going on in our world you want to begin your day anchored in Truth and Agape’s ministers and practitioners will support you in living this Reality! \nLink on Facebook: \n      Facebook.com/AgapeInternationalSpiritualCenter/ \nMon. – Sat.  Daily  @. 8am PT \n 
URL:https://agapelive.com/event/agapes-daily-prayer-sessions-2-26/
CATEGORIES:At A Glance
ATTACH;FMTTYPE=image/jpeg:https://agapelive.com/wp-content/uploads/2024/02/Agape-Daily-Prayer-web.jpg
END:VEVENT
BEGIN:VEVENT
DTSTART;TZID=America/Los_Angeles:20260428T080000
DTEND;TZID=America/Los_Angeles:20260428T083000
DTSTAMP:20260420T202209
CREATED:20240303T020011Z
LAST-MODIFIED:20250309T095611Z
UID:10003484-1777363200-1777365000@agapelive.com
SUMMARY:Agape's Daily Prayer Sessions
DESCRIPTION:  \nJoin your Agape Family each morning at 8am (Pacific Time) via FaceBook Live\, as we establish ourselves in the Truth of our existence through prayer. \nWith so much going on in our world you want to begin your day anchored in Truth and Agape’s ministers and practitioners will support you in living this Reality! \nLink on Facebook: \n      Facebook.com/AgapeInternationalSpiritualCenter/ \nMon. – Sat.  Daily  @. 8am PT \n 
URL:https://agapelive.com/event/agapes-daily-prayer-sessions-2/2026-04-28/
ATTACH;FMTTYPE=image/jpeg:https://agapelive.com/wp-content/uploads/2024/02/Agape-Daily-Prayer-web.jpg
END:VEVENT
BEGIN:VEVENT
DTSTART;TZID=America/Los_Angeles:20260429T080000
DTEND;TZID=America/Los_Angeles:20260429T083000
DTSTAMP:20260420T202209
CREATED:20240303T020011Z
LAST-MODIFIED:20250309T095611Z
UID:10002264-1777449600-1777451400@agapelive.com
SUMMARY:Agape's Daily Prayer Sessions
DESCRIPTION:  \nJoin your Agape Family each morning at 8am (Pacific Time) via FaceBook Live\, as we establish ourselves in the Truth of our existence through prayer. \nWith so much going on in our world you want to begin your day anchored in Truth and Agape’s ministers and practitioners will support you in living this Reality! \nLink on Facebook: \n      Facebook.com/AgapeInternationalSpiritualCenter/ \nMon. – Sat.  Daily  @. 8am PT \n 
URL:https://agapelive.com/event/agapes-daily-prayer-sessions-2/2026-04-29/
ATTACH;FMTTYPE=image/jpeg:https://agapelive.com/wp-content/uploads/2024/02/Agape-Daily-Prayer-web.jpg
END:VEVENT
BEGIN:VEVENT
DTSTART;TZID=America/Los_Angeles:20260430T080000
DTEND;TZID=America/Los_Angeles:20260430T083000
DTSTAMP:20260420T202209
CREATED:20240303T020011Z
LAST-MODIFIED:20250309T095611Z
UID:10002265-1777536000-1777537800@agapelive.com
SUMMARY:Agape's Daily Prayer Sessions
DESCRIPTION:  \nJoin your Agape Family each morning at 8am (Pacific Time) via FaceBook Live\, as we establish ourselves in the Truth of our existence through prayer. \nWith so much going on in our world you want to begin your day anchored in Truth and Agape’s ministers and practitioners will support you in living this Reality! \nLink on Facebook: \n      Facebook.com/AgapeInternationalSpiritualCenter/ \nMon. – Sat.  Daily  @. 8am PT \n 
URL:https://agapelive.com/event/agapes-daily-prayer-sessions-2/2026-04-30/
ATTACH;FMTTYPE=image/jpeg:https://agapelive.com/wp-content/uploads/2024/02/Agape-Daily-Prayer-web.jpg
END:VEVENT
BEGIN:VEVENT
DTSTART;TZID=America/Los_Angeles:20260501T080000
DTEND;TZID=America/Los_Angeles:20260501T083000
DTSTAMP:20260420T202209
CREATED:20240303T020011Z
LAST-MODIFIED:20250309T095611Z
UID:10002266-1777622400-1777624200@agapelive.com
SUMMARY:Agape's Daily Prayer Sessions
DESCRIPTION:  \nJoin your Agape Family each morning at 8am (Pacific Time) via FaceBook Live\, as we establish ourselves in the Truth of our existence through prayer. \nWith so much going on in our world you want to begin your day anchored in Truth and Agape’s ministers and practitioners will support you in living this Reality! \nLink on Facebook: \n      Facebook.com/AgapeInternationalSpiritualCenter/ \nMon. – Sat.  Daily  @. 8am PT \n 
URL:https://agapelive.com/event/agapes-daily-prayer-sessions-2/2026-05-01/
ATTACH;FMTTYPE=image/jpeg:https://agapelive.com/wp-content/uploads/2024/02/Agape-Daily-Prayer-web.jpg
END:VEVENT
BEGIN:VEVENT
DTSTART;TZID=America/Los_Angeles:20260502T080000
DTEND;TZID=America/Los_Angeles:20260502T083000
DTSTAMP:20260420T202209
CREATED:20240303T020011Z
LAST-MODIFIED:20250309T095611Z
UID:10002267-1777708800-1777710600@agapelive.com
SUMMARY:Agape's Daily Prayer Sessions
DESCRIPTION:  \nJoin your Agape Family each morning at 8am (Pacific Time) via FaceBook Live\, as we establish ourselves in the Truth of our existence through prayer. \nWith so much going on in our world you want to begin your day anchored in Truth and Agape’s ministers and practitioners will support you in living this Reality! \nLink on Facebook: \n      Facebook.com/AgapeInternationalSpiritualCenter/ \nMon. – Sat.  Daily  @. 8am PT \n 
URL:https://agapelive.com/event/agapes-daily-prayer-sessions-2/2026-05-02/
ATTACH;FMTTYPE=image/jpeg:https://agapelive.com/wp-content/uploads/2024/02/Agape-Daily-Prayer-web.jpg
END:VEVENT
BEGIN:VEVENT
DTSTART;TZID=America/Los_Angeles:20260504T080000
DTEND;TZID=America/Los_Angeles:20260504T083000
DTSTAMP:20260420T202209
CREATED:20240303T020011Z
LAST-MODIFIED:20250309T095611Z
UID:10003485-1777881600-1777883400@agapelive.com
SUMMARY:Agape's Daily Prayer Sessions
DESCRIPTION:  \nJoin your Agape Family each morning at 8am (Pacific Time) via FaceBook Live\, as we establish ourselves in the Truth of our existence through prayer. \nWith so much going on in our world you want to begin your day anchored in Truth and Agape’s ministers and practitioners will support you in living this Reality! \nLink on Facebook: \n      Facebook.com/AgapeInternationalSpiritualCenter/ \nMon. – Sat.  Daily  @. 8am PT \n 
URL:https://agapelive.com/event/agapes-daily-prayer-sessions-2/2026-05-04/
ATTACH;FMTTYPE=image/jpeg:https://agapelive.com/wp-content/uploads/2024/02/Agape-Daily-Prayer-web.jpg
END:VEVENT
BEGIN:VEVENT
DTSTART;TZID=America/Los_Angeles:20260505T080000
DTEND;TZID=America/Los_Angeles:20260505T083000
DTSTAMP:20260420T202209
CREATED:20240303T020011Z
LAST-MODIFIED:20250309T095611Z
UID:10002269-1777968000-1777969800@agapelive.com
SUMMARY:Agape's Daily Prayer Sessions
DESCRIPTION:  \nJoin your Agape Family each morning at 8am (Pacific Time) via FaceBook Live\, as we establish ourselves in the Truth of our existence through prayer. \nWith so much going on in our world you want to begin your day anchored in Truth and Agape’s ministers and practitioners will support you in living this Reality! \nLink on Facebook: \n      Facebook.com/AgapeInternationalSpiritualCenter/ \nMon. – Sat.  Daily  @. 8am PT \n 
URL:https://agapelive.com/event/agapes-daily-prayer-sessions-2/2026-05-05/
ATTACH;FMTTYPE=image/jpeg:https://agapelive.com/wp-content/uploads/2024/02/Agape-Daily-Prayer-web.jpg
END:VEVENT
BEGIN:VEVENT
DTSTART;TZID=America/Los_Angeles:20260506T080000
DTEND;TZID=America/Los_Angeles:20260506T083000
DTSTAMP:20260420T202209
CREATED:20240303T020011Z
LAST-MODIFIED:20250309T095611Z
UID:10002270-1778054400-1778056200@agapelive.com
SUMMARY:Agape's Daily Prayer Sessions
DESCRIPTION:  \nJoin your Agape Family each morning at 8am (Pacific Time) via FaceBook Live\, as we establish ourselves in the Truth of our existence through prayer. \nWith so much going on in our world you want to begin your day anchored in Truth and Agape’s ministers and practitioners will support you in living this Reality! \nLink on Facebook: \n      Facebook.com/AgapeInternationalSpiritualCenter/ \nMon. – Sat.  Daily  @. 8am PT \n 
URL:https://agapelive.com/event/agapes-daily-prayer-sessions-2/2026-05-06/
ATTACH;FMTTYPE=image/jpeg:https://agapelive.com/wp-content/uploads/2024/02/Agape-Daily-Prayer-web.jpg
END:VEVENT
BEGIN:VEVENT
DTSTART;TZID=America/Los_Angeles:20260507T080000
DTEND;TZID=America/Los_Angeles:20260507T083000
DTSTAMP:20260420T202209
CREATED:20240303T020011Z
LAST-MODIFIED:20250309T095611Z
UID:10002271-1778140800-1778142600@agapelive.com
SUMMARY:Agape's Daily Prayer Sessions
DESCRIPTION:  \nJoin your Agape Family each morning at 8am (Pacific Time) via FaceBook Live\, as we establish ourselves in the Truth of our existence through prayer. \nWith so much going on in our world you want to begin your day anchored in Truth and Agape’s ministers and practitioners will support you in living this Reality! \nLink on Facebook: \n      Facebook.com/AgapeInternationalSpiritualCenter/ \nMon. – Sat.  Daily  @. 8am PT \n 
URL:https://agapelive.com/event/agapes-daily-prayer-sessions-2/2026-05-07/
ATTACH;FMTTYPE=image/jpeg:https://agapelive.com/wp-content/uploads/2024/02/Agape-Daily-Prayer-web.jpg
END:VEVENT
BEGIN:VEVENT
DTSTART;TZID=America/Los_Angeles:20260508T080000
DTEND;TZID=America/Los_Angeles:20260508T083000
DTSTAMP:20260420T202209
CREATED:20240303T020011Z
LAST-MODIFIED:20250309T095611Z
UID:10002272-1778227200-1778229000@agapelive.com
SUMMARY:Agape's Daily Prayer Sessions
DESCRIPTION:  \nJoin your Agape Family each morning at 8am (Pacific Time) via FaceBook Live\, as we establish ourselves in the Truth of our existence through prayer. \nWith so much going on in our world you want to begin your day anchored in Truth and Agape’s ministers and practitioners will support you in living this Reality! \nLink on Facebook: \n      Facebook.com/AgapeInternationalSpiritualCenter/ \nMon. – Sat.  Daily  @. 8am PT \n 
URL:https://agapelive.com/event/agapes-daily-prayer-sessions-2/2026-05-08/
ATTACH;FMTTYPE=image/jpeg:https://agapelive.com/wp-content/uploads/2024/02/Agape-Daily-Prayer-web.jpg
END:VEVENT
BEGIN:VEVENT
DTSTART;TZID=America/Los_Angeles:20260509T080000
DTEND;TZID=America/Los_Angeles:20260509T083000
DTSTAMP:20260420T202209
CREATED:20240303T020011Z
LAST-MODIFIED:20250309T095611Z
UID:10002273-1778313600-1778315400@agapelive.com
SUMMARY:Agape's Daily Prayer Sessions
DESCRIPTION:  \nJoin your Agape Family each morning at 8am (Pacific Time) via FaceBook Live\, as we establish ourselves in the Truth of our existence through prayer. \nWith so much going on in our world you want to begin your day anchored in Truth and Agape’s ministers and practitioners will support you in living this Reality! \nLink on Facebook: \n      Facebook.com/AgapeInternationalSpiritualCenter/ \nMon. – Sat.  Daily  @. 8am PT \n 
URL:https://agapelive.com/event/agapes-daily-prayer-sessions-2/2026-05-09/
ATTACH;FMTTYPE=image/jpeg:https://agapelive.com/wp-content/uploads/2024/02/Agape-Daily-Prayer-web.jpg
END:VEVENT
BEGIN:VEVENT
DTSTART;TZID=America/Los_Angeles:20260511T080000
DTEND;TZID=America/Los_Angeles:20260511T083000
DTSTAMP:20260420T202209
CREATED:20240303T020011Z
LAST-MODIFIED:20250309T095611Z
UID:10003243-1778486400-1778488200@agapelive.com
SUMMARY:Agape's Daily Prayer Sessions
DESCRIPTION:  \nJoin your Agape Family each morning at 8am (Pacific Time) via FaceBook Live\, as we establish ourselves in the Truth of our existence through prayer. \nWith so much going on in our world you want to begin your day anchored in Truth and Agape’s ministers and practitioners will support you in living this Reality! \nLink on Facebook: \n      Facebook.com/AgapeInternationalSpiritualCenter/ \nMon. – Sat.  Daily  @. 8am PT \n 
URL:https://agapelive.com/event/agapes-daily-prayer-sessions-2/2026-05-11/
ATTACH;FMTTYPE=image/jpeg:https://agapelive.com/wp-content/uploads/2024/02/Agape-Daily-Prayer-web.jpg
END:VEVENT
BEGIN:VEVENT
DTSTART;TZID=America/Los_Angeles:20260512T080000
DTEND;TZID=America/Los_Angeles:20260512T083000
DTSTAMP:20260420T202209
CREATED:20240303T020011Z
LAST-MODIFIED:20250309T095611Z
UID:10002275-1778572800-1778574600@agapelive.com
SUMMARY:Agape's Daily Prayer Sessions
DESCRIPTION:  \nJoin your Agape Family each morning at 8am (Pacific Time) via FaceBook Live\, as we establish ourselves in the Truth of our existence through prayer. \nWith so much going on in our world you want to begin your day anchored in Truth and Agape’s ministers and practitioners will support you in living this Reality! \nLink on Facebook: \n      Facebook.com/AgapeInternationalSpiritualCenter/ \nMon. – Sat.  Daily  @. 8am PT \n 
URL:https://agapelive.com/event/agapes-daily-prayer-sessions-2/2026-05-12/
ATTACH;FMTTYPE=image/jpeg:https://agapelive.com/wp-content/uploads/2024/02/Agape-Daily-Prayer-web.jpg
END:VEVENT
BEGIN:VEVENT
DTSTART;TZID=America/Los_Angeles:20260513T080000
DTEND;TZID=America/Los_Angeles:20260513T083000
DTSTAMP:20260420T202209
CREATED:20240303T020011Z
LAST-MODIFIED:20250309T095611Z
UID:10002276-1778659200-1778661000@agapelive.com
SUMMARY:Agape's Daily Prayer Sessions
DESCRIPTION:  \nJoin your Agape Family each morning at 8am (Pacific Time) via FaceBook Live\, as we establish ourselves in the Truth of our existence through prayer. \nWith so much going on in our world you want to begin your day anchored in Truth and Agape’s ministers and practitioners will support you in living this Reality! \nLink on Facebook: \n      Facebook.com/AgapeInternationalSpiritualCenter/ \nMon. – Sat.  Daily  @. 8am PT \n 
URL:https://agapelive.com/event/agapes-daily-prayer-sessions-2/2026-05-13/
ATTACH;FMTTYPE=image/jpeg:https://agapelive.com/wp-content/uploads/2024/02/Agape-Daily-Prayer-web.jpg
END:VEVENT
BEGIN:VEVENT
DTSTART;TZID=America/Los_Angeles:20260514T080000
DTEND;TZID=America/Los_Angeles:20260514T083000
DTSTAMP:20260420T202209
CREATED:20240303T020011Z
LAST-MODIFIED:20250309T095611Z
UID:10002277-1778745600-1778747400@agapelive.com
SUMMARY:Agape's Daily Prayer Sessions
DESCRIPTION:  \nJoin your Agape Family each morning at 8am (Pacific Time) via FaceBook Live\, as we establish ourselves in the Truth of our existence through prayer. \nWith so much going on in our world you want to begin your day anchored in Truth and Agape’s ministers and practitioners will support you in living this Reality! \nLink on Facebook: \n      Facebook.com/AgapeInternationalSpiritualCenter/ \nMon. – Sat.  Daily  @. 8am PT \n 
URL:https://agapelive.com/event/agapes-daily-prayer-sessions-2/2026-05-14/
ATTACH;FMTTYPE=image/jpeg:https://agapelive.com/wp-content/uploads/2024/02/Agape-Daily-Prayer-web.jpg
END:VEVENT
BEGIN:VEVENT
DTSTART;TZID=America/Los_Angeles:20260515T080000
DTEND;TZID=America/Los_Angeles:20260515T083000
DTSTAMP:20260420T202209
CREATED:20240303T020011Z
LAST-MODIFIED:20250309T095611Z
UID:10002278-1778832000-1778833800@agapelive.com
SUMMARY:Agape's Daily Prayer Sessions
DESCRIPTION:  \nJoin your Agape Family each morning at 8am (Pacific Time) via FaceBook Live\, as we establish ourselves in the Truth of our existence through prayer. \nWith so much going on in our world you want to begin your day anchored in Truth and Agape’s ministers and practitioners will support you in living this Reality! \nLink on Facebook: \n      Facebook.com/AgapeInternationalSpiritualCenter/ \nMon. – Sat.  Daily  @. 8am PT \n 
URL:https://agapelive.com/event/agapes-daily-prayer-sessions-2/2026-05-15/
ATTACH;FMTTYPE=image/jpeg:https://agapelive.com/wp-content/uploads/2024/02/Agape-Daily-Prayer-web.jpg
END:VEVENT
BEGIN:VEVENT
DTSTART;TZID=America/Los_Angeles:20260516T080000
DTEND;TZID=America/Los_Angeles:20260516T083000
DTSTAMP:20260420T202209
CREATED:20240303T020011Z
LAST-MODIFIED:20250309T095611Z
UID:10003486-1778918400-1778920200@agapelive.com
SUMMARY:Agape's Daily Prayer Sessions
DESCRIPTION:  \nJoin your Agape Family each morning at 8am (Pacific Time) via FaceBook Live\, as we establish ourselves in the Truth of our existence through prayer. \nWith so much going on in our world you want to begin your day anchored in Truth and Agape’s ministers and practitioners will support you in living this Reality! \nLink on Facebook: \n      Facebook.com/AgapeInternationalSpiritualCenter/ \nMon. – Sat.  Daily  @. 8am PT \n 
URL:https://agapelive.com/event/agapes-daily-prayer-sessions-2/2026-05-16/
ATTACH;FMTTYPE=image/jpeg:https://agapelive.com/wp-content/uploads/2024/02/Agape-Daily-Prayer-web.jpg
END:VEVENT
BEGIN:VEVENT
DTSTART;TZID=America/Los_Angeles:20260518T080000
DTEND;TZID=America/Los_Angeles:20260518T083000
DTSTAMP:20260420T202209
CREATED:20240303T020011Z
LAST-MODIFIED:20250309T095611Z
UID:10003244-1779091200-1779093000@agapelive.com
SUMMARY:Agape's Daily Prayer Sessions
DESCRIPTION:  \nJoin your Agape Family each morning at 8am (Pacific Time) via FaceBook Live\, as we establish ourselves in the Truth of our existence through prayer. \nWith so much going on in our world you want to begin your day anchored in Truth and Agape’s ministers and practitioners will support you in living this Reality! \nLink on Facebook: \n      Facebook.com/AgapeInternationalSpiritualCenter/ \nMon. – Sat.  Daily  @. 8am PT \n 
URL:https://agapelive.com/event/agapes-daily-prayer-sessions-2/2026-05-18/
ATTACH;FMTTYPE=image/jpeg:https://agapelive.com/wp-content/uploads/2024/02/Agape-Daily-Prayer-web.jpg
END:VEVENT
BEGIN:VEVENT
DTSTART;TZID=America/Los_Angeles:20260519T080000
DTEND;TZID=America/Los_Angeles:20260519T083000
DTSTAMP:20260420T202209
CREATED:20240303T020011Z
LAST-MODIFIED:20250309T095611Z
UID:10002281-1779177600-1779179400@agapelive.com
SUMMARY:Agape's Daily Prayer Sessions
DESCRIPTION:  \nJoin your Agape Family each morning at 8am (Pacific Time) via FaceBook Live\, as we establish ourselves in the Truth of our existence through prayer. \nWith so much going on in our world you want to begin your day anchored in Truth and Agape’s ministers and practitioners will support you in living this Reality! \nLink on Facebook: \n      Facebook.com/AgapeInternationalSpiritualCenter/ \nMon. – Sat.  Daily  @. 8am PT \n 
URL:https://agapelive.com/event/agapes-daily-prayer-sessions-2/2026-05-19/
ATTACH;FMTTYPE=image/jpeg:https://agapelive.com/wp-content/uploads/2024/02/Agape-Daily-Prayer-web.jpg
END:VEVENT
BEGIN:VEVENT
DTSTART;TZID=America/Los_Angeles:20260520T080000
DTEND;TZID=America/Los_Angeles:20260520T083000
DTSTAMP:20260420T202209
CREATED:20240303T020011Z
LAST-MODIFIED:20250309T095611Z
UID:10002282-1779264000-1779265800@agapelive.com
SUMMARY:Agape's Daily Prayer Sessions
DESCRIPTION:  \nJoin your Agape Family each morning at 8am (Pacific Time) via FaceBook Live\, as we establish ourselves in the Truth of our existence through prayer. \nWith so much going on in our world you want to begin your day anchored in Truth and Agape’s ministers and practitioners will support you in living this Reality! \nLink on Facebook: \n      Facebook.com/AgapeInternationalSpiritualCenter/ \nMon. – Sat.  Daily  @. 8am PT \n 
URL:https://agapelive.com/event/agapes-daily-prayer-sessions-2/2026-05-20/
ATTACH;FMTTYPE=image/jpeg:https://agapelive.com/wp-content/uploads/2024/02/Agape-Daily-Prayer-web.jpg
END:VEVENT
BEGIN:VEVENT
DTSTART;TZID=America/Los_Angeles:20260521T080000
DTEND;TZID=America/Los_Angeles:20260521T083000
DTSTAMP:20260420T202210
CREATED:20240303T020011Z
LAST-MODIFIED:20250309T095611Z
UID:10002283-1779350400-1779352200@agapelive.com
SUMMARY:Agape's Daily Prayer Sessions
DESCRIPTION:  \nJoin your Agape Family each morning at 8am (Pacific Time) via FaceBook Live\, as we establish ourselves in the Truth of our existence through prayer. \nWith so much going on in our world you want to begin your day anchored in Truth and Agape’s ministers and practitioners will support you in living this Reality! \nLink on Facebook: \n      Facebook.com/AgapeInternationalSpiritualCenter/ \nMon. – Sat.  Daily  @. 8am PT \n 
URL:https://agapelive.com/event/agapes-daily-prayer-sessions-2/2026-05-21/
ATTACH;FMTTYPE=image/jpeg:https://agapelive.com/wp-content/uploads/2024/02/Agape-Daily-Prayer-web.jpg
END:VEVENT
BEGIN:VEVENT
DTSTART;TZID=America/Los_Angeles:20260522T080000
DTEND;TZID=America/Los_Angeles:20260522T083000
DTSTAMP:20260420T202210
CREATED:20240303T020011Z
LAST-MODIFIED:20250309T095611Z
UID:10003487-1779436800-1779438600@agapelive.com
SUMMARY:Agape's Daily Prayer Sessions
DESCRIPTION:  \nJoin your Agape Family each morning at 8am (Pacific Time) via FaceBook Live\, as we establish ourselves in the Truth of our existence through prayer. \nWith so much going on in our world you want to begin your day anchored in Truth and Agape’s ministers and practitioners will support you in living this Reality! \nLink on Facebook: \n      Facebook.com/AgapeInternationalSpiritualCenter/ \nMon. – Sat.  Daily  @. 8am PT \n 
URL:https://agapelive.com/event/agapes-daily-prayer-sessions-2/2026-05-22/
ATTACH;FMTTYPE=image/jpeg:https://agapelive.com/wp-content/uploads/2024/02/Agape-Daily-Prayer-web.jpg
END:VEVENT
BEGIN:VEVENT
DTSTART;TZID=America/Los_Angeles:20260523T080000
DTEND;TZID=America/Los_Angeles:20260523T083000
DTSTAMP:20260420T202210
CREATED:20240303T020011Z
LAST-MODIFIED:20250309T095611Z
UID:10002285-1779523200-1779525000@agapelive.com
SUMMARY:Agape's Daily Prayer Sessions
DESCRIPTION:  \nJoin your Agape Family each morning at 8am (Pacific Time) via FaceBook Live\, as we establish ourselves in the Truth of our existence through prayer. \nWith so much going on in our world you want to begin your day anchored in Truth and Agape’s ministers and practitioners will support you in living this Reality! \nLink on Facebook: \n      Facebook.com/AgapeInternationalSpiritualCenter/ \nMon. – Sat.  Daily  @. 8am PT \n 
URL:https://agapelive.com/event/agapes-daily-prayer-sessions-2/2026-05-23/
ATTACH;FMTTYPE=image/jpeg:https://agapelive.com/wp-content/uploads/2024/02/Agape-Daily-Prayer-web.jpg
END:VEVENT
BEGIN:VEVENT
DTSTART;TZID=America/Los_Angeles:20260525T080000
DTEND;TZID=America/Los_Angeles:20260525T083000
DTSTAMP:20260420T202210
CREATED:20240303T020011Z
LAST-MODIFIED:20250309T095611Z
UID:10003245-1779696000-1779697800@agapelive.com
SUMMARY:Agape's Daily Prayer Sessions
DESCRIPTION:  \nJoin your Agape Family each morning at 8am (Pacific Time) via FaceBook Live\, as we establish ourselves in the Truth of our existence through prayer. \nWith so much going on in our world you want to begin your day anchored in Truth and Agape’s ministers and practitioners will support you in living this Reality! \nLink on Facebook: \n      Facebook.com/AgapeInternationalSpiritualCenter/ \nMon. – Sat.  Daily  @. 8am PT \n 
URL:https://agapelive.com/event/agapes-daily-prayer-sessions-2/2026-05-25/
ATTACH;FMTTYPE=image/jpeg:https://agapelive.com/wp-content/uploads/2024/02/Agape-Daily-Prayer-web.jpg
END:VEVENT
END:VCALENDAR