BEGIN:VCALENDAR
VERSION:2.0
PRODID:-//Agape International Spiritual Center - ECPv6.15.20//NONSGML v1.0//EN
CALSCALE:GREGORIAN
METHOD:PUBLISH
X-WR-CALNAME:Agape International Spiritual Center
X-ORIGINAL-URL:https://agapelive.com
X-WR-CALDESC:Events for Agape International Spiritual Center
REFRESH-INTERVAL;VALUE=DURATION:PT1H
X-Robots-Tag:noindex
X-PUBLISHED-TTL:PT1H
BEGIN:VTIMEZONE
TZID:America/Los_Angeles
BEGIN:DAYLIGHT
TZOFFSETFROM:-0800
TZOFFSETTO:-0700
TZNAME:PDT
DTSTART:20250309T100000
END:DAYLIGHT
BEGIN:STANDARD
TZOFFSETFROM:-0700
TZOFFSETTO:-0800
TZNAME:PST
DTSTART:20251102T090000
END:STANDARD
BEGIN:DAYLIGHT
TZOFFSETFROM:-0800
TZOFFSETTO:-0700
TZNAME:PDT
DTSTART:20260308T100000
END:DAYLIGHT
BEGIN:STANDARD
TZOFFSETFROM:-0700
TZOFFSETTO:-0800
TZNAME:PST
DTSTART:20261101T090000
END:STANDARD
BEGIN:DAYLIGHT
TZOFFSETFROM:-0800
TZOFFSETTO:-0700
TZNAME:PDT
DTSTART:20270314T100000
END:DAYLIGHT
BEGIN:STANDARD
TZOFFSETFROM:-0700
TZOFFSETTO:-0800
TZNAME:PST
DTSTART:20271107T090000
END:STANDARD
END:VTIMEZONE
BEGIN:VEVENT
DTSTART;TZID=America/Los_Angeles:20260427T160000
DTEND;TZID=America/Los_Angeles:20260427T180000
DTSTAMP:20260425T144314
CREATED:20250523T193540Z
LAST-MODIFIED:20250724T164308Z
UID:10007691-1777305600-1777312800@agapelive.com
SUMMARY:OFTH Crisis Support Clinic
DESCRIPTION: \n\n  \nOne From the Heart’s Crisis Support Clinic takes place online!  \nThe Support Clinic will be in session from 4pm-6pm PT\, every Monday\, so you may have a mini-counseling session with an Agape Licensed practitioner.  \nEmail  crisissupport @ agapelive.com  to set up your 20 min. appointment.  \nThere will be no in-person walk in clinic until further notice.   \n  \n  \n 
URL:https://agapelive.com/event/ofth-crisis-support-clinic-14/2026-04-27/
ATTACH;FMTTYPE=image/jpeg:https://agapelive.com/wp-content/uploads/2025/07/crisis-support-web-tmp5.jpg
END:VEVENT
BEGIN:VEVENT
DTSTART;TZID=America/Los_Angeles:20260504T160000
DTEND;TZID=America/Los_Angeles:20260504T180000
DTSTAMP:20260425T144314
CREATED:20250523T193540Z
LAST-MODIFIED:20250724T164308Z
UID:10007692-1777910400-1777917600@agapelive.com
SUMMARY:OFTH Crisis Support Clinic
DESCRIPTION: \n\n  \nOne From the Heart’s Crisis Support Clinic takes place online!  \nThe Support Clinic will be in session from 4pm-6pm PT\, every Monday\, so you may have a mini-counseling session with an Agape Licensed practitioner.  \nEmail  crisissupport @ agapelive.com  to set up your 20 min. appointment.  \nThere will be no in-person walk in clinic until further notice.   \n  \n  \n 
URL:https://agapelive.com/event/ofth-crisis-support-clinic-14/2026-05-04/
ATTACH;FMTTYPE=image/jpeg:https://agapelive.com/wp-content/uploads/2025/07/crisis-support-web-tmp5.jpg
END:VEVENT
BEGIN:VEVENT
DTSTART;TZID=America/Los_Angeles:20260511T160000
DTEND;TZID=America/Los_Angeles:20260511T180000
DTSTAMP:20260425T144314
CREATED:20250523T193540Z
LAST-MODIFIED:20250724T164308Z
UID:10007693-1778515200-1778522400@agapelive.com
SUMMARY:OFTH Crisis Support Clinic
DESCRIPTION: \n\n  \nOne From the Heart’s Crisis Support Clinic takes place online!  \nThe Support Clinic will be in session from 4pm-6pm PT\, every Monday\, so you may have a mini-counseling session with an Agape Licensed practitioner.  \nEmail  crisissupport @ agapelive.com  to set up your 20 min. appointment.  \nThere will be no in-person walk in clinic until further notice.   \n  \n  \n 
URL:https://agapelive.com/event/ofth-crisis-support-clinic-14/2026-05-11/
ATTACH;FMTTYPE=image/jpeg:https://agapelive.com/wp-content/uploads/2025/07/crisis-support-web-tmp5.jpg
END:VEVENT
BEGIN:VEVENT
DTSTART;TZID=America/Los_Angeles:20260518T160000
DTEND;TZID=America/Los_Angeles:20260518T180000
DTSTAMP:20260425T144314
CREATED:20250523T193540Z
LAST-MODIFIED:20250724T164308Z
UID:10007694-1779120000-1779127200@agapelive.com
SUMMARY:OFTH Crisis Support Clinic
DESCRIPTION: \n\n  \nOne From the Heart’s Crisis Support Clinic takes place online!  \nThe Support Clinic will be in session from 4pm-6pm PT\, every Monday\, so you may have a mini-counseling session with an Agape Licensed practitioner.  \nEmail  crisissupport @ agapelive.com  to set up your 20 min. appointment.  \nThere will be no in-person walk in clinic until further notice.   \n  \n  \n 
URL:https://agapelive.com/event/ofth-crisis-support-clinic-14/2026-05-18/
ATTACH;FMTTYPE=image/jpeg:https://agapelive.com/wp-content/uploads/2025/07/crisis-support-web-tmp5.jpg
END:VEVENT
BEGIN:VEVENT
DTSTART;TZID=America/Los_Angeles:20260525T160000
DTEND;TZID=America/Los_Angeles:20260525T180000
DTSTAMP:20260425T144314
CREATED:20250523T193540Z
LAST-MODIFIED:20250724T164308Z
UID:10007695-1779724800-1779732000@agapelive.com
SUMMARY:OFTH Crisis Support Clinic
DESCRIPTION: \n\n  \nOne From the Heart’s Crisis Support Clinic takes place online!  \nThe Support Clinic will be in session from 4pm-6pm PT\, every Monday\, so you may have a mini-counseling session with an Agape Licensed practitioner.  \nEmail  crisissupport @ agapelive.com  to set up your 20 min. appointment.  \nThere will be no in-person walk in clinic until further notice.   \n  \n  \n 
URL:https://agapelive.com/event/ofth-crisis-support-clinic-14/2026-05-25/
ATTACH;FMTTYPE=image/jpeg:https://agapelive.com/wp-content/uploads/2025/07/crisis-support-web-tmp5.jpg
END:VEVENT
BEGIN:VEVENT
DTSTART;TZID=America/Los_Angeles:20260601T160000
DTEND;TZID=America/Los_Angeles:20260601T180000
DTSTAMP:20260425T144314
CREATED:20250523T193540Z
LAST-MODIFIED:20250724T164308Z
UID:10007696-1780329600-1780336800@agapelive.com
SUMMARY:OFTH Crisis Support Clinic
DESCRIPTION: \n\n  \nOne From the Heart’s Crisis Support Clinic takes place online!  \nThe Support Clinic will be in session from 4pm-6pm PT\, every Monday\, so you may have a mini-counseling session with an Agape Licensed practitioner.  \nEmail  crisissupport @ agapelive.com  to set up your 20 min. appointment.  \nThere will be no in-person walk in clinic until further notice.   \n  \n  \n 
URL:https://agapelive.com/event/ofth-crisis-support-clinic-14/2026-06-01/
ATTACH;FMTTYPE=image/jpeg:https://agapelive.com/wp-content/uploads/2025/07/crisis-support-web-tmp5.jpg
END:VEVENT
BEGIN:VEVENT
DTSTART;TZID=America/Los_Angeles:20260608T160000
DTEND;TZID=America/Los_Angeles:20260608T180000
DTSTAMP:20260425T144314
CREATED:20250523T193540Z
LAST-MODIFIED:20250724T164308Z
UID:10007697-1780934400-1780941600@agapelive.com
SUMMARY:OFTH Crisis Support Clinic
DESCRIPTION: \n\n  \nOne From the Heart’s Crisis Support Clinic takes place online!  \nThe Support Clinic will be in session from 4pm-6pm PT\, every Monday\, so you may have a mini-counseling session with an Agape Licensed practitioner.  \nEmail  crisissupport @ agapelive.com  to set up your 20 min. appointment.  \nThere will be no in-person walk in clinic until further notice.   \n  \n  \n 
URL:https://agapelive.com/event/ofth-crisis-support-clinic-14/2026-06-08/
ATTACH;FMTTYPE=image/jpeg:https://agapelive.com/wp-content/uploads/2025/07/crisis-support-web-tmp5.jpg
END:VEVENT
BEGIN:VEVENT
DTSTART;TZID=America/Los_Angeles:20260615T160000
DTEND;TZID=America/Los_Angeles:20260615T180000
DTSTAMP:20260425T144314
CREATED:20250523T193540Z
LAST-MODIFIED:20250724T164308Z
UID:10007698-1781539200-1781546400@agapelive.com
SUMMARY:OFTH Crisis Support Clinic
DESCRIPTION: \n\n  \nOne From the Heart’s Crisis Support Clinic takes place online!  \nThe Support Clinic will be in session from 4pm-6pm PT\, every Monday\, so you may have a mini-counseling session with an Agape Licensed practitioner.  \nEmail  crisissupport @ agapelive.com  to set up your 20 min. appointment.  \nThere will be no in-person walk in clinic until further notice.   \n  \n  \n 
URL:https://agapelive.com/event/ofth-crisis-support-clinic-14/2026-06-15/
ATTACH;FMTTYPE=image/jpeg:https://agapelive.com/wp-content/uploads/2025/07/crisis-support-web-tmp5.jpg
END:VEVENT
BEGIN:VEVENT
DTSTART;TZID=America/Los_Angeles:20260622T160000
DTEND;TZID=America/Los_Angeles:20260622T180000
DTSTAMP:20260425T144314
CREATED:20250523T193540Z
LAST-MODIFIED:20250724T164308Z
UID:10007699-1782144000-1782151200@agapelive.com
SUMMARY:OFTH Crisis Support Clinic
DESCRIPTION: \n\n  \nOne From the Heart’s Crisis Support Clinic takes place online!  \nThe Support Clinic will be in session from 4pm-6pm PT\, every Monday\, so you may have a mini-counseling session with an Agape Licensed practitioner.  \nEmail  crisissupport @ agapelive.com  to set up your 20 min. appointment.  \nThere will be no in-person walk in clinic until further notice.   \n  \n  \n 
URL:https://agapelive.com/event/ofth-crisis-support-clinic-14/2026-06-22/
ATTACH;FMTTYPE=image/jpeg:https://agapelive.com/wp-content/uploads/2025/07/crisis-support-web-tmp5.jpg
END:VEVENT
BEGIN:VEVENT
DTSTART;TZID=America/Los_Angeles:20260629T160000
DTEND;TZID=America/Los_Angeles:20260629T180000
DTSTAMP:20260425T144315
CREATED:20250523T193540Z
LAST-MODIFIED:20250724T164308Z
UID:10007700-1782748800-1782756000@agapelive.com
SUMMARY:OFTH Crisis Support Clinic
DESCRIPTION: \n\n  \nOne From the Heart’s Crisis Support Clinic takes place online!  \nThe Support Clinic will be in session from 4pm-6pm PT\, every Monday\, so you may have a mini-counseling session with an Agape Licensed practitioner.  \nEmail  crisissupport @ agapelive.com  to set up your 20 min. appointment.  \nThere will be no in-person walk in clinic until further notice.   \n  \n  \n 
URL:https://agapelive.com/event/ofth-crisis-support-clinic-14/2026-06-29/
ATTACH;FMTTYPE=image/jpeg:https://agapelive.com/wp-content/uploads/2025/07/crisis-support-web-tmp5.jpg
END:VEVENT
BEGIN:VEVENT
DTSTART;TZID=America/Los_Angeles:20260706T160000
DTEND;TZID=America/Los_Angeles:20260706T180000
DTSTAMP:20260425T144315
CREATED:20250523T193540Z
LAST-MODIFIED:20250724T164308Z
UID:10007701-1783353600-1783360800@agapelive.com
SUMMARY:OFTH Crisis Support Clinic
DESCRIPTION: \n\n  \nOne From the Heart’s Crisis Support Clinic takes place online!  \nThe Support Clinic will be in session from 4pm-6pm PT\, every Monday\, so you may have a mini-counseling session with an Agape Licensed practitioner.  \nEmail  crisissupport @ agapelive.com  to set up your 20 min. appointment.  \nThere will be no in-person walk in clinic until further notice.   \n  \n  \n 
URL:https://agapelive.com/event/ofth-crisis-support-clinic-14/2026-07-06/
ATTACH;FMTTYPE=image/jpeg:https://agapelive.com/wp-content/uploads/2025/07/crisis-support-web-tmp5.jpg
END:VEVENT
BEGIN:VEVENT
DTSTART;TZID=America/Los_Angeles:20260713T160000
DTEND;TZID=America/Los_Angeles:20260713T180000
DTSTAMP:20260425T144315
CREATED:20250523T193540Z
LAST-MODIFIED:20250724T164308Z
UID:10007702-1783958400-1783965600@agapelive.com
SUMMARY:OFTH Crisis Support Clinic
DESCRIPTION: \n\n  \nOne From the Heart’s Crisis Support Clinic takes place online!  \nThe Support Clinic will be in session from 4pm-6pm PT\, every Monday\, so you may have a mini-counseling session with an Agape Licensed practitioner.  \nEmail  crisissupport @ agapelive.com  to set up your 20 min. appointment.  \nThere will be no in-person walk in clinic until further notice.   \n  \n  \n 
URL:https://agapelive.com/event/ofth-crisis-support-clinic-14/2026-07-13/
ATTACH;FMTTYPE=image/jpeg:https://agapelive.com/wp-content/uploads/2025/07/crisis-support-web-tmp5.jpg
END:VEVENT
BEGIN:VEVENT
DTSTART;TZID=America/Los_Angeles:20260720T160000
DTEND;TZID=America/Los_Angeles:20260720T180000
DTSTAMP:20260425T144315
CREATED:20250523T193540Z
LAST-MODIFIED:20250724T164308Z
UID:10007703-1784563200-1784570400@agapelive.com
SUMMARY:OFTH Crisis Support Clinic
DESCRIPTION: \n\n  \nOne From the Heart’s Crisis Support Clinic takes place online!  \nThe Support Clinic will be in session from 4pm-6pm PT\, every Monday\, so you may have a mini-counseling session with an Agape Licensed practitioner.  \nEmail  crisissupport @ agapelive.com  to set up your 20 min. appointment.  \nThere will be no in-person walk in clinic until further notice.   \n  \n  \n 
URL:https://agapelive.com/event/ofth-crisis-support-clinic-14/2026-07-20/
ATTACH;FMTTYPE=image/jpeg:https://agapelive.com/wp-content/uploads/2025/07/crisis-support-web-tmp5.jpg
END:VEVENT
BEGIN:VEVENT
DTSTART;TZID=America/Los_Angeles:20260727T160000
DTEND;TZID=America/Los_Angeles:20260727T180000
DTSTAMP:20260425T144315
CREATED:20250523T193540Z
LAST-MODIFIED:20250724T164308Z
UID:10007704-1785168000-1785175200@agapelive.com
SUMMARY:OFTH Crisis Support Clinic
DESCRIPTION: \n\n  \nOne From the Heart’s Crisis Support Clinic takes place online!  \nThe Support Clinic will be in session from 4pm-6pm PT\, every Monday\, so you may have a mini-counseling session with an Agape Licensed practitioner.  \nEmail  crisissupport @ agapelive.com  to set up your 20 min. appointment.  \nThere will be no in-person walk in clinic until further notice.   \n  \n  \n 
URL:https://agapelive.com/event/ofth-crisis-support-clinic-14/2026-07-27/
ATTACH;FMTTYPE=image/jpeg:https://agapelive.com/wp-content/uploads/2025/07/crisis-support-web-tmp5.jpg
END:VEVENT
BEGIN:VEVENT
DTSTART;TZID=America/Los_Angeles:20260803T160000
DTEND;TZID=America/Los_Angeles:20260803T180000
DTSTAMP:20260425T144315
CREATED:20250523T193540Z
LAST-MODIFIED:20250724T164308Z
UID:10007705-1785772800-1785780000@agapelive.com
SUMMARY:OFTH Crisis Support Clinic
DESCRIPTION: \n\n  \nOne From the Heart’s Crisis Support Clinic takes place online!  \nThe Support Clinic will be in session from 4pm-6pm PT\, every Monday\, so you may have a mini-counseling session with an Agape Licensed practitioner.  \nEmail  crisissupport @ agapelive.com  to set up your 20 min. appointment.  \nThere will be no in-person walk in clinic until further notice.   \n  \n  \n 
URL:https://agapelive.com/event/ofth-crisis-support-clinic-14/2026-08-03/
ATTACH;FMTTYPE=image/jpeg:https://agapelive.com/wp-content/uploads/2025/07/crisis-support-web-tmp5.jpg
END:VEVENT
BEGIN:VEVENT
DTSTART;TZID=America/Los_Angeles:20260810T160000
DTEND;TZID=America/Los_Angeles:20260810T180000
DTSTAMP:20260425T144315
CREATED:20250523T193540Z
LAST-MODIFIED:20250724T164308Z
UID:10007706-1786377600-1786384800@agapelive.com
SUMMARY:OFTH Crisis Support Clinic
DESCRIPTION: \n\n  \nOne From the Heart’s Crisis Support Clinic takes place online!  \nThe Support Clinic will be in session from 4pm-6pm PT\, every Monday\, so you may have a mini-counseling session with an Agape Licensed practitioner.  \nEmail  crisissupport @ agapelive.com  to set up your 20 min. appointment.  \nThere will be no in-person walk in clinic until further notice.   \n  \n  \n 
URL:https://agapelive.com/event/ofth-crisis-support-clinic-14/2026-08-10/
ATTACH;FMTTYPE=image/jpeg:https://agapelive.com/wp-content/uploads/2025/07/crisis-support-web-tmp5.jpg
END:VEVENT
BEGIN:VEVENT
DTSTART;TZID=America/Los_Angeles:20260817T160000
DTEND;TZID=America/Los_Angeles:20260817T180000
DTSTAMP:20260425T144315
CREATED:20250523T193540Z
LAST-MODIFIED:20250724T164308Z
UID:10007707-1786982400-1786989600@agapelive.com
SUMMARY:OFTH Crisis Support Clinic
DESCRIPTION: \n\n  \nOne From the Heart’s Crisis Support Clinic takes place online!  \nThe Support Clinic will be in session from 4pm-6pm PT\, every Monday\, so you may have a mini-counseling session with an Agape Licensed practitioner.  \nEmail  crisissupport @ agapelive.com  to set up your 20 min. appointment.  \nThere will be no in-person walk in clinic until further notice.   \n  \n  \n 
URL:https://agapelive.com/event/ofth-crisis-support-clinic-14/2026-08-17/
ATTACH;FMTTYPE=image/jpeg:https://agapelive.com/wp-content/uploads/2025/07/crisis-support-web-tmp5.jpg
END:VEVENT
BEGIN:VEVENT
DTSTART;TZID=America/Los_Angeles:20260824T160000
DTEND;TZID=America/Los_Angeles:20260824T180000
DTSTAMP:20260425T144315
CREATED:20250523T193540Z
LAST-MODIFIED:20250724T164308Z
UID:10007708-1787587200-1787594400@agapelive.com
SUMMARY:OFTH Crisis Support Clinic
DESCRIPTION: \n\n  \nOne From the Heart’s Crisis Support Clinic takes place online!  \nThe Support Clinic will be in session from 4pm-6pm PT\, every Monday\, so you may have a mini-counseling session with an Agape Licensed practitioner.  \nEmail  crisissupport @ agapelive.com  to set up your 20 min. appointment.  \nThere will be no in-person walk in clinic until further notice.   \n  \n  \n 
URL:https://agapelive.com/event/ofth-crisis-support-clinic-14/2026-08-24/
ATTACH;FMTTYPE=image/jpeg:https://agapelive.com/wp-content/uploads/2025/07/crisis-support-web-tmp5.jpg
END:VEVENT
BEGIN:VEVENT
DTSTART;TZID=America/Los_Angeles:20260831T160000
DTEND;TZID=America/Los_Angeles:20260831T180000
DTSTAMP:20260425T144315
CREATED:20250523T193540Z
LAST-MODIFIED:20250724T164308Z
UID:10007709-1788192000-1788199200@agapelive.com
SUMMARY:OFTH Crisis Support Clinic
DESCRIPTION: \n\n  \nOne From the Heart’s Crisis Support Clinic takes place online!  \nThe Support Clinic will be in session from 4pm-6pm PT\, every Monday\, so you may have a mini-counseling session with an Agape Licensed practitioner.  \nEmail  crisissupport @ agapelive.com  to set up your 20 min. appointment.  \nThere will be no in-person walk in clinic until further notice.   \n  \n  \n 
URL:https://agapelive.com/event/ofth-crisis-support-clinic-14/2026-08-31/
ATTACH;FMTTYPE=image/jpeg:https://agapelive.com/wp-content/uploads/2025/07/crisis-support-web-tmp5.jpg
END:VEVENT
BEGIN:VEVENT
DTSTART;TZID=America/Los_Angeles:20260907T160000
DTEND;TZID=America/Los_Angeles:20260907T180000
DTSTAMP:20260425T144315
CREATED:20250523T193540Z
LAST-MODIFIED:20250724T164308Z
UID:10007710-1788796800-1788804000@agapelive.com
SUMMARY:OFTH Crisis Support Clinic
DESCRIPTION: \n\n  \nOne From the Heart’s Crisis Support Clinic takes place online!  \nThe Support Clinic will be in session from 4pm-6pm PT\, every Monday\, so you may have a mini-counseling session with an Agape Licensed practitioner.  \nEmail  crisissupport @ agapelive.com  to set up your 20 min. appointment.  \nThere will be no in-person walk in clinic until further notice.   \n  \n  \n 
URL:https://agapelive.com/event/ofth-crisis-support-clinic-14/2026-09-07/
ATTACH;FMTTYPE=image/jpeg:https://agapelive.com/wp-content/uploads/2025/07/crisis-support-web-tmp5.jpg
END:VEVENT
BEGIN:VEVENT
DTSTART;TZID=America/Los_Angeles:20260914T160000
DTEND;TZID=America/Los_Angeles:20260914T180000
DTSTAMP:20260425T144315
CREATED:20250523T193540Z
LAST-MODIFIED:20250724T164308Z
UID:10007711-1789401600-1789408800@agapelive.com
SUMMARY:OFTH Crisis Support Clinic
DESCRIPTION: \n\n  \nOne From the Heart’s Crisis Support Clinic takes place online!  \nThe Support Clinic will be in session from 4pm-6pm PT\, every Monday\, so you may have a mini-counseling session with an Agape Licensed practitioner.  \nEmail  crisissupport @ agapelive.com  to set up your 20 min. appointment.  \nThere will be no in-person walk in clinic until further notice.   \n  \n  \n 
URL:https://agapelive.com/event/ofth-crisis-support-clinic-14/2026-09-14/
ATTACH;FMTTYPE=image/jpeg:https://agapelive.com/wp-content/uploads/2025/07/crisis-support-web-tmp5.jpg
END:VEVENT
BEGIN:VEVENT
DTSTART;TZID=America/Los_Angeles:20260921T160000
DTEND;TZID=America/Los_Angeles:20260921T180000
DTSTAMP:20260425T144315
CREATED:20250523T193540Z
LAST-MODIFIED:20250724T164308Z
UID:10007712-1790006400-1790013600@agapelive.com
SUMMARY:OFTH Crisis Support Clinic
DESCRIPTION: \n\n  \nOne From the Heart’s Crisis Support Clinic takes place online!  \nThe Support Clinic will be in session from 4pm-6pm PT\, every Monday\, so you may have a mini-counseling session with an Agape Licensed practitioner.  \nEmail  crisissupport @ agapelive.com  to set up your 20 min. appointment.  \nThere will be no in-person walk in clinic until further notice.   \n  \n  \n 
URL:https://agapelive.com/event/ofth-crisis-support-clinic-14/2026-09-21/
ATTACH;FMTTYPE=image/jpeg:https://agapelive.com/wp-content/uploads/2025/07/crisis-support-web-tmp5.jpg
END:VEVENT
BEGIN:VEVENT
DTSTART;TZID=America/Los_Angeles:20260928T160000
DTEND;TZID=America/Los_Angeles:20260928T180000
DTSTAMP:20260425T144315
CREATED:20250523T193540Z
LAST-MODIFIED:20250724T164308Z
UID:10007713-1790611200-1790618400@agapelive.com
SUMMARY:OFTH Crisis Support Clinic
DESCRIPTION: \n\n  \nOne From the Heart’s Crisis Support Clinic takes place online!  \nThe Support Clinic will be in session from 4pm-6pm PT\, every Monday\, so you may have a mini-counseling session with an Agape Licensed practitioner.  \nEmail  crisissupport @ agapelive.com  to set up your 20 min. appointment.  \nThere will be no in-person walk in clinic until further notice.   \n  \n  \n 
URL:https://agapelive.com/event/ofth-crisis-support-clinic-14/2026-09-28/
ATTACH;FMTTYPE=image/jpeg:https://agapelive.com/wp-content/uploads/2025/07/crisis-support-web-tmp5.jpg
END:VEVENT
BEGIN:VEVENT
DTSTART;TZID=America/Los_Angeles:20261005T160000
DTEND;TZID=America/Los_Angeles:20261005T180000
DTSTAMP:20260425T144315
CREATED:20250523T193540Z
LAST-MODIFIED:20250724T164308Z
UID:10007714-1791216000-1791223200@agapelive.com
SUMMARY:OFTH Crisis Support Clinic
DESCRIPTION: \n\n  \nOne From the Heart’s Crisis Support Clinic takes place online!  \nThe Support Clinic will be in session from 4pm-6pm PT\, every Monday\, so you may have a mini-counseling session with an Agape Licensed practitioner.  \nEmail  crisissupport @ agapelive.com  to set up your 20 min. appointment.  \nThere will be no in-person walk in clinic until further notice.   \n  \n  \n 
URL:https://agapelive.com/event/ofth-crisis-support-clinic-14/2026-10-05/
ATTACH;FMTTYPE=image/jpeg:https://agapelive.com/wp-content/uploads/2025/07/crisis-support-web-tmp5.jpg
END:VEVENT
BEGIN:VEVENT
DTSTART;TZID=America/Los_Angeles:20261012T160000
DTEND;TZID=America/Los_Angeles:20261012T180000
DTSTAMP:20260425T144315
CREATED:20250523T193540Z
LAST-MODIFIED:20250724T164308Z
UID:10007715-1791820800-1791828000@agapelive.com
SUMMARY:OFTH Crisis Support Clinic
DESCRIPTION: \n\n  \nOne From the Heart’s Crisis Support Clinic takes place online!  \nThe Support Clinic will be in session from 4pm-6pm PT\, every Monday\, so you may have a mini-counseling session with an Agape Licensed practitioner.  \nEmail  crisissupport @ agapelive.com  to set up your 20 min. appointment.  \nThere will be no in-person walk in clinic until further notice.   \n  \n  \n 
URL:https://agapelive.com/event/ofth-crisis-support-clinic-14/2026-10-12/
ATTACH;FMTTYPE=image/jpeg:https://agapelive.com/wp-content/uploads/2025/07/crisis-support-web-tmp5.jpg
END:VEVENT
BEGIN:VEVENT
DTSTART;TZID=America/Los_Angeles:20261019T160000
DTEND;TZID=America/Los_Angeles:20261019T180000
DTSTAMP:20260425T144315
CREATED:20250523T193540Z
LAST-MODIFIED:20250724T164308Z
UID:10007716-1792425600-1792432800@agapelive.com
SUMMARY:OFTH Crisis Support Clinic
DESCRIPTION: \n\n  \nOne From the Heart’s Crisis Support Clinic takes place online!  \nThe Support Clinic will be in session from 4pm-6pm PT\, every Monday\, so you may have a mini-counseling session with an Agape Licensed practitioner.  \nEmail  crisissupport @ agapelive.com  to set up your 20 min. appointment.  \nThere will be no in-person walk in clinic until further notice.   \n  \n  \n 
URL:https://agapelive.com/event/ofth-crisis-support-clinic-14/2026-10-19/
ATTACH;FMTTYPE=image/jpeg:https://agapelive.com/wp-content/uploads/2025/07/crisis-support-web-tmp5.jpg
END:VEVENT
BEGIN:VEVENT
DTSTART;TZID=America/Los_Angeles:20261026T160000
DTEND;TZID=America/Los_Angeles:20261026T180000
DTSTAMP:20260425T144315
CREATED:20250523T193540Z
LAST-MODIFIED:20250724T164308Z
UID:10007717-1793030400-1793037600@agapelive.com
SUMMARY:OFTH Crisis Support Clinic
DESCRIPTION: \n\n  \nOne From the Heart’s Crisis Support Clinic takes place online!  \nThe Support Clinic will be in session from 4pm-6pm PT\, every Monday\, so you may have a mini-counseling session with an Agape Licensed practitioner.  \nEmail  crisissupport @ agapelive.com  to set up your 20 min. appointment.  \nThere will be no in-person walk in clinic until further notice.   \n  \n  \n 
URL:https://agapelive.com/event/ofth-crisis-support-clinic-14/2026-10-26/
ATTACH;FMTTYPE=image/jpeg:https://agapelive.com/wp-content/uploads/2025/07/crisis-support-web-tmp5.jpg
END:VEVENT
BEGIN:VEVENT
DTSTART;TZID=America/Los_Angeles:20261102T160000
DTEND;TZID=America/Los_Angeles:20261102T180000
DTSTAMP:20260425T144315
CREATED:20250523T193540Z
LAST-MODIFIED:20250724T164308Z
UID:10007718-1793635200-1793642400@agapelive.com
SUMMARY:OFTH Crisis Support Clinic
DESCRIPTION: \n\n  \nOne From the Heart’s Crisis Support Clinic takes place online!  \nThe Support Clinic will be in session from 4pm-6pm PT\, every Monday\, so you may have a mini-counseling session with an Agape Licensed practitioner.  \nEmail  crisissupport @ agapelive.com  to set up your 20 min. appointment.  \nThere will be no in-person walk in clinic until further notice.   \n  \n  \n 
URL:https://agapelive.com/event/ofth-crisis-support-clinic-14/2026-11-02/
ATTACH;FMTTYPE=image/jpeg:https://agapelive.com/wp-content/uploads/2025/07/crisis-support-web-tmp5.jpg
END:VEVENT
BEGIN:VEVENT
DTSTART;TZID=America/Los_Angeles:20261109T160000
DTEND;TZID=America/Los_Angeles:20261109T180000
DTSTAMP:20260425T144315
CREATED:20250523T193540Z
LAST-MODIFIED:20250724T164308Z
UID:10007719-1794240000-1794247200@agapelive.com
SUMMARY:OFTH Crisis Support Clinic
DESCRIPTION: \n\n  \nOne From the Heart’s Crisis Support Clinic takes place online!  \nThe Support Clinic will be in session from 4pm-6pm PT\, every Monday\, so you may have a mini-counseling session with an Agape Licensed practitioner.  \nEmail  crisissupport @ agapelive.com  to set up your 20 min. appointment.  \nThere will be no in-person walk in clinic until further notice.   \n  \n  \n 
URL:https://agapelive.com/event/ofth-crisis-support-clinic-14/2026-11-09/
ATTACH;FMTTYPE=image/jpeg:https://agapelive.com/wp-content/uploads/2025/07/crisis-support-web-tmp5.jpg
END:VEVENT
BEGIN:VEVENT
DTSTART;TZID=America/Los_Angeles:20261116T160000
DTEND;TZID=America/Los_Angeles:20261116T180000
DTSTAMP:20260425T144315
CREATED:20250523T193540Z
LAST-MODIFIED:20250724T164308Z
UID:10007720-1794844800-1794852000@agapelive.com
SUMMARY:OFTH Crisis Support Clinic
DESCRIPTION: \n\n  \nOne From the Heart’s Crisis Support Clinic takes place online!  \nThe Support Clinic will be in session from 4pm-6pm PT\, every Monday\, so you may have a mini-counseling session with an Agape Licensed practitioner.  \nEmail  crisissupport @ agapelive.com  to set up your 20 min. appointment.  \nThere will be no in-person walk in clinic until further notice.   \n  \n  \n 
URL:https://agapelive.com/event/ofth-crisis-support-clinic-14/2026-11-16/
ATTACH;FMTTYPE=image/jpeg:https://agapelive.com/wp-content/uploads/2025/07/crisis-support-web-tmp5.jpg
END:VEVENT
END:VCALENDAR